BEGIN:VCALENDAR
VERSION:2.0
PRODID:-//NYS Public Employment Relations Board (PERB) - ECPv5.9.1//NONSGML v1.0//EN
CALSCALE:GREGORIAN
METHOD:PUBLISH
X-WR-CALNAME:NYS Public Employment Relations Board (PERB)
X-ORIGINAL-URL:https://perb.ny.gov
X-WR-CALDESC:Events for NYS Public Employment Relations Board (PERB)
BEGIN:VTIMEZONE
TZID:UTC
BEGIN:STANDARD
TZOFFSETFROM:+0000
TZOFFSETTO:+0000
TZNAME:UTC
DTSTART:20180101T000000
END:STANDARD
END:VTIMEZONE
BEGIN:VEVENT
DTSTART;VALUE=DATE:20180510
DTEND;VALUE=DATE:20180512
DTSTAMP:20210929T112046
CREATED:20180501T173234Z
LAST-MODIFIED:20180501T182309Z
UID:3173-1525910400-1526083199@perb.ny.gov
SUMMARY:50th Anniversary conference
DESCRIPTION:The Taylor Law 50th Anniversary
URL:https://perb.ny.gov/event/50th-anniversary-conference/
LOCATION:Desmond Hotel and Conference Center.\, 660 Albany Shaker Rd\, Albany\, NY 12211\, Albany\, NY\, United States
END:VEVENT
END:VCALENDAR